BEGIN:VCALENDAR
VERSION:2.0
PRODID:-//TrendAuto2030plus - ECPv6.8.0//NONSGML v1.0//EN
CALSCALE:GREGORIAN
METHOD:PUBLISH
X-WR-CALNAME:TrendAuto2030plus
X-ORIGINAL-URL:https://trendauto2030plus.de
X-WR-CALDESC:Veranstaltungen für TrendAuto2030plus
REFRESH-INTERVAL;VALUE=DURATION:PT1H
X-Robots-Tag:noindex
X-PUBLISHED-TTL:PT1H
BEGIN:VTIMEZONE
TZID:Europe/Berlin
BEGIN:DAYLIGHT
TZOFFSETFROM:+0100
TZOFFSETTO:+0200
TZNAME:CEST
DTSTART:20260329T010000
END:DAYLIGHT
BEGIN:STANDARD
TZOFFSETFROM:+0200
TZOFFSETTO:+0100
TZNAME:CET
DTSTART:20261025T010000
END:STANDARD
END:VTIMEZONE
BEGIN:VEVENT
DTSTART;TZID=Europe/Berlin:20260429T093000
DTEND;TZID=Europe/Berlin:20260429T123000
DTSTAMP:20260423T153759
CREATED:20260309T074536Z
LAST-MODIFIED:20260423T100221Z
UID:71463-1777455000-1777465800@trendauto2030plus.de
SUMMARY:Unternehmensbesuch BPW: Ansätze des Remanufacturing
DESCRIPTION:Hinweis: Die Veranstaltung wird zusammen mit BPW Bergische Achsen Kommanditgesellschaft durchgeführt. Die BPW Bergische Achsen KG mit Hauptsitz in Wiehl ist ein weltweit führender Zulieferer der Nutzfahrzeugindustrie und Anbieter von Mobilitätslösungen für die Transport- und Logistikbranche. Das familiengeführte Traditionsunternehmen wurde 1898 gegründet und entwickelt sowie produziert Fahrwerkssysteme für Anhänger und Auflieger\, darunter Achsen\, Brems- und Federungstechnologien\, Leichtbau- und Aufbautentechnik sowie digitale Telematiklösungen. \nBPW ist international in über 30 Ländern vertreten\, betreibt zahlreiche Produktions- und Entwicklungsstandorte und verfügt über ein umfassendes Service- und Ersatzteilnetzwerk mit mehr als 3.200 Servicepartnern weltweit. \n  \nWie kann Kreislaufwirtschaft in der industriellen Praxis funktionieren und dabei nicht nur ökologische\, sondern auch ökonomische Potenziale erschließen? Remanufacturing als Strategie der Kreislaufwirtschaft bietet hier einen vielversprechenden Ansatz. Es verbindet Ressourcenschonung mit wirtschaftlichem Mehrwert. Bei unserem kommenden Unternehmensbesuch bei BPW bringen wir produzierende Unternehmen zusammen\, um genau dieses Thema gemeinsam zu diskutieren. \nZiel der Veranstaltung ist ein offener Dialog über Chancen\, Herausforderungen und konkrete Ansatzpunkte für die Umsetzung von Kreislaufwirtschaftsstrategien. Im Mittelpunkt steht dabei das Remanufacturing. Produkte und Komponenten werden am Ende ihrer Nutzungsdauer wieder in einen neuwertigen oder sogar qualitativ verbesserten Zustand aufbereitet. Die Veranstaltung bietet Raum für Austausch\, gegenseitiges Lernen und neue Perspektiven. Gleichzeitig soll sie einen ersten Impuls für den Aufbau eines regionalen Netzwerks von Expertinnen und Experten setzen. \nAls Gastgeber gewährt BPW Einblicke in das eigene Remanufacturing-Programm und zeigt\, wie entsprechende Ansätze erfolgreich in industrielle Prozesse integriert werden können. Ergänzt wird dies durch einen Impuls von der TH Köln und dem WZL der RWTH Aachen mit dem Arbeitstitel „Upgrade Circular Economy – Werte steigern statt nur erhalten“. Darin wird die Kreislaufwirtschaft als Leitbild für eine ökonomisch und ökologisch nachhaltige Industrie beleuchtet. Im Fokus steht die Frage\, wie sich aus Rückläufern nicht nur gleichwertige\, sondern sogar qualitativ verbesserte Produkte entwickeln lassen. \n  \nVorläufige Agenda \n\n\n\n09:30 – 09:40 Uhr\nBegrüßung & kurze Vorstellungsrunde\n\n\n09:40 – 10:05 Uhr\nImpulsvortrag „Upgrade Circular Economy – Werte steigern statt nur erhalten“ \n(Tim Hommen\, WZL der RWTH Aachen)\n\n\n10:05 – 10:30 Uhr\nEinführung Re-Manufacturing-Ansatz von BPW\n\n\n10:30 – 11:45 Uhr\nWerksführung (bitte eigene Sicherheitsschuhe mitbringen!)\n\n\n11:45 – 12:00 Uhr\nWrap-Up und Verabschiedung\n\n\nAnschließend\nAusklang bei gemeinsamem Mittagessen im Betriebsrestaurant
URL:https://trendauto2030plus.de/veranstaltung/bpw-ansaetze-des-remanufacturing/
LOCATION:BPW Bergische Achsen Kommanditgesellschaft\, Ohlerhammer\, Wiehl\, 51674\, Germany
CATEGORIES:Arbeitskreis-Treffen,Handlungsfeld Geschäftsmodell,Impulsvorträge,Informationsveranstaltung
ATTACH;FMTTYPE=image/jpeg:https://trendauto2030plus.de/wp-content/uploads/2026/03/BPW-Panorama-clean_Print_300-dpi_Logo_Claim_White-scaled.jpeg
ORGANIZER;CN="Friedrich Wintzer (WZL der RWTH Aachen)":MAILTO:f.wintzer@wzl.rtwh-aachen.de
GEO:50.9466939;7.5700362
X-APPLE-STRUCTURED-LOCATION;VALUE=URI;X-ADDRESS=BPW Bergische Achsen Kommanditgesellschaft Ohlerhammer Wiehl 51674 Germany;X-APPLE-RADIUS=500;X-TITLE=Ohlerhammer:geo:7.5700362,50.9466939
END:VEVENT
END:VCALENDAR